BEGIN:VCALENDAR
VERSION:2.0
PRODID:-//Tarmforeningen - ECPv6.15.20//NONSGML v1.0//EN
CALSCALE:GREGORIAN
METHOD:PUBLISH
X-WR-CALNAME:Tarmforeningen
X-ORIGINAL-URL:https://tarmforeningen.dk
X-WR-CALDESC:Begivenheder for Tarmforeningen
REFRESH-INTERVAL;VALUE=DURATION:PT1H
X-Robots-Tag:noindex
X-PUBLISHED-TTL:PT1H
BEGIN:VTIMEZONE
TZID:Europe/Copenhagen
BEGIN:DAYLIGHT
TZOFFSETFROM:+0100
TZOFFSETTO:+0200
TZNAME:CEST
DTSTART:20250330T010000
END:DAYLIGHT
BEGIN:STANDARD
TZOFFSETFROM:+0200
TZOFFSETTO:+0100
TZNAME:CET
DTSTART:20251026T010000
END:STANDARD
BEGIN:DAYLIGHT
TZOFFSETFROM:+0100
TZOFFSETTO:+0200
TZNAME:CEST
DTSTART:20260329T010000
END:DAYLIGHT
BEGIN:STANDARD
TZOFFSETFROM:+0200
TZOFFSETTO:+0100
TZNAME:CET
DTSTART:20261025T010000
END:STANDARD
BEGIN:DAYLIGHT
TZOFFSETFROM:+0100
TZOFFSETTO:+0200
TZNAME:CEST
DTSTART:20270328T010000
END:DAYLIGHT
BEGIN:STANDARD
TZOFFSETFROM:+0200
TZOFFSETTO:+0100
TZNAME:CET
DTSTART:20271031T010000
END:STANDARD
END:VTIMEZONE
BEGIN:VEVENT
DTSTART;TZID=Europe/Copenhagen:20260227T130000
DTEND;TZID=Europe/Copenhagen:20260301T160000
DTSTAMP:20260424T224418
CREATED:20260106T094243Z
LAST-MODIFIED:20260106T094647Z
UID:21258-1772197200-1772380800@tarmforeningen.dk
SUMMARY:Familieweekend 2026
DESCRIPTION:En weekend for familier med børn mellem 6-18 år\, der lever med en kronisk tarmsygdom\nHar I et barn med Crohns sygdom\, colitis ulcerosa\, irritabel tyktarm\, galdesyrediarré\, divertikler eller mikroskopisk kolit og kunne I tænke jer at møde andre familier i samme situation? \nSå tag hele familien med til Familieweekend i 2026! \nWeekenden byder på faglige oplæg\, erfaringsudveksling og masser af fællesskab og hygge for både børn\, søskende og forældre.\nDer vil være oplæg fra fagpersoner og mulighed for at stille spørgsmål om sygdom\, behandling\, skole\, fritid\, trivsel og familieliv med en kronisk tarmsygdom tæt på. \nSamtidig bliver der god tid til at møde andre\, som forstår hverdagen med en tarmsygdom\, hospitalsbesøg og alle de praktiske og følelsesmæssige udfordringer\, der kan følge med både for barnet\, søskende og forældre.\nForældre får mulighed for at drøfte hverdagen med et barn med tarmsygdom\, herunder støtte i skole og fritid\, søskendes trivsel og egen rolle som pårørende.\nDer bliver god tid til at dele erfaringer og få konkrete råd fra andre i samme situation. \nImens har børn og søskende deres egne aktiviteter med leg\, kreativitet og fællesskab i trygge rammer\, tilpasset alder og energi. \nTid og sted\nDato: 27. februar – 1. marts 2026Sted: Brogaarden\, Abelonelundvej 40\, 5500 MiddelfartMålgruppe: Familier med et barn mellem 6-18 år med kronisk tarmsygdomDeltagere: Maks. 5 personer pr. familie \nPris \n\nBarn med tarmsygdom: Gratis\nForælder/voksen: 450 kr. pr. person (maks. 2 forældre pr. barn)\nSøskende: 150 kr. pr. barn (maks. 2 søskende pr. barn – søskende skal være fyldt 6 år)\n\nPrisen dækker program\, ophold og fuld forplejning for hele weekenden. \nTilmelding\nÅbner 1. december 2025 og foregår efter først-til-mølle-princippet.Din tilmelding er først gældende\, når du har modtaget en bekræftelse. \nLæs mere og tilmeld dig her: Tilmelding – Familieweekend 2026 \nSpørgsmål\nHar du spørgsmål er du velkommen til at kontakte os på info@ccf.dk eller telefon 54 34 91 92
URL:https://tarmforeningen.dk/arrangement/familieweekend-2026/
LOCATION:Brogaarden\, Abelonelundvej 40\, Middelfart\, 5500\, Denmark
END:VEVENT
BEGIN:VEVENT
DTSTART;TZID=Europe/Copenhagen:20260309T190000
DTEND;TZID=Europe/Copenhagen:20260309T203000
DTSTAMP:20260424T224418
CREATED:20260206T091012Z
LAST-MODIFIED:20260206T091012Z
UID:21860-1773082800-1773088200@tarmforeningen.dk
SUMMARY:Foredrag om magnesiumstatus hos personer med tarmsygdom og syreudskillelse ved ileostomi v/ Mathias Redsted og Peter Lange Jørgensen
DESCRIPTION:Magnesium og tarmsygdom – hvad betyder det for kroppen?\nCCF Østjylland inviterer til et dobbeltforedrag med fokus på mangeltilstande og ubalancer ved den syge tarm. Ved tarmsygdom og ileostomi tabes ofte væske\, næringsstoffer\, vitaminer og mineraler – herunder magnesium\, som spiller en afgørende rolle for kroppens funktion. \nMagnesiummangel kan give mange forskellige symptomer\, herunder træthed\, muskelkramper og muskelsvaghed.\nSamtidig kan tab af base ved ileostomi påvirke kroppens syre-base-balance og belaste nyrerne over tid. \nAftenen byder på ny viden fra aktuelle forskningsprojekter – formidlet i et sprog\, der er til at forstå. \nOplægsholdere\nMathias Redsted\, diætist og ph.d.-studerende\, Lever-\, Mave- og Tarmafdelingen\, AUHMathias vil fortælle om sit ph.d.-projekt “Magnesiumstatus hos personer med tarmsygdomme”\, som er støttet af CCF. Projektet undersøger forekomsten af magnesiummangel hos patienter med IBD\, ileostomi og galdesyrediarré. \nPeter Lange Jørgensen\, medicin- og forskningsårsstuderende\, Lever-\, Mave- og Tarmafdelingen\, AUHPeter vil præsentere sit forskningsårsprojekt om syre-base-balancen hos patienter med ileostomi. Projektet ser på\, hvordan tab af base fra den korte tarm påvirker nyrernes udskillelse af syre og hvilke konsekvenser det kan have på sigt. \nTid og sted\nTidspunkt: Mandag den 9. marts 2026 kl. 19.00Sted: Ellevang Kirkes lokalerJellebakken 42\, 8240 Risskov \nTilmelding\nTilmelding senest den 2. marts 2026 via følgende link:https://ccfoestjylland.nemtilmeld.dk/
URL:https://tarmforeningen.dk/arrangement/foredrag-om-magnesiumstatus-hos-personer-med-tarmsygdom-og-syreudskillelse-ved-ileostomi-v-mathias-redsted-og-peter-lange-joergensen/
LOCATION:Ellevang Kirkes lokaler\, Jellebakken 42\, Risskov\, 8240
END:VEVENT
BEGIN:VEVENT
DTSTART;TZID=Europe/Copenhagen:20260315T100000
DTEND;TZID=Europe/Copenhagen:20260315T110000
DTSTAMP:20260424T224418
CREATED:20260112T095433Z
LAST-MODIFIED:20260112T095433Z
UID:21317-1773568800-1773572400@tarmforeningen.dk
SUMMARY:Online foredrag om kost v/Sylvia Frost Engel for patienter med tarmsygdom
DESCRIPTION:Sylvia lever med Morbus Crohn og stomi og arbejder som træner samt cand.scient. i klinisk ernæring på Esbjerg universitetshospital.\nSylvia vil holde oplæg om træning\, kost og hverdagsliv med Crohn\, Colitis\, IBS og stomi. \nHun gennemgår praktiske råd om træning\, kost før og efter aktivitet samt en enkel tilgang til Low-FODMAP-diæten. \nDer bliver mulighed for spørgsmål og Sylvia tilbyder personlig rådgivning efter oplægget. \nTid\nSøndag den 15. marts 2026 kl. 10.00-11.00Online \nOplægget\n1. Kost ved IBD: hvad siger de helt nye forskningsresultater?\n2. Hvordan bruger vi kosten som individ?\n3. Kosten ved operationer\, medicin\, intolerancer.\n4. Kostplan: skal jeg det? Spise ude: hvad gør jeg? Indkøb: er der fælder?\n5. Skal jeg spise kosttilskud? Virker de?\n6. Økologi? Fastfood? Sødemidler? Slik og kager? \nTilmelding\nTilmelding sker via NemTilmeld senest den 13. marts 2026https://ccf-kobenhavn.nemtilmeld.dk/
URL:https://tarmforeningen.dk/arrangement/online-foredrag-om-kost-v-sylvia-frost-engel-for-patienter-med-tarmsygdom/
LOCATION:Online
END:VEVENT
BEGIN:VEVENT
DTSTART;TZID=Europe/Copenhagen:20260319T180000
DTEND;TZID=Europe/Copenhagen:20260319T210000
DTSTAMP:20260424T224418
CREATED:20260311T132818Z
LAST-MODIFIED:20260311T132917Z
UID:22175-1773943200-1773954000@tarmforeningen.dk
SUMMARY:Spisning og hyggeligt samvær på Café Storm
DESCRIPTION:CCF Sønderjylland inviterer medlemmer til en hyggelig aften med fællesspisning på Café Storm i Aabenraa. \nKom og vær med til en uformel aften\, hvor vi mødes over et godt måltid og hyggeligt samvær.\nDet bliver en oplagt mulighed for at møde andre medlemmer og få en hyggelig aften med gode snakke. \nTid og sted\nDato: Torsdag den 19. marts 2026Tid: Kl. 18.00 \nSted:Café StormStoretorv 4D6200 Aabenraa \nForeningen betaler for maden\, mens drikkevarer er for egen regning.Du kan vælge mellem en burger\, pasta eller salat fra caféens menukort. \nSe menukortet her: https://cafestorm.dk/menukort/ \nBemærk\, at arrangementet kun er for medlemmer denne aften. \nPraktisk information\nDer er plads til maksimalt 20 deltagere\, og pladserne fordeles efter først til mølle-princippet.\nVed familiemedlemskab kan to personer deltage. \nTilmelding\nTilmelding senest 15. marts 2026 til: \nMail: soenderjylland@ccf.dk eller sms: 28 93 31 84 \nHusk at oplyse dit medlemsnummer ved tilmelding. \n\nVi håber at se mange af jer til en hyggelig aften. \nMed venlig hilsenBestyrelsen i CCF Sønderjylland
URL:https://tarmforeningen.dk/arrangement/spisning-og-hyggeligt-samvaer-paa-cafe-storm/
LOCATION:Café Storm\, Storetorv 4D i Aabenraa
END:VEVENT
BEGIN:VEVENT
DTSTART;TZID=Europe/Copenhagen:20260321T124500
DTEND;TZID=Europe/Copenhagen:20260321T153000
DTSTAMP:20260424T224418
CREATED:20260227T123113Z
LAST-MODIFIED:20260227T125917Z
UID:22071-1774097100-1774107000@tarmforeningen.dk
SUMMARY:Lands­generalforsamling 2026
DESCRIPTION:Hovedbestyrelsen indkalder hermed til ordinær generalforsamling i Colitis-Crohn Foreningen. \nTid og sted\nDato: Lørdag den 21. marts 2026Tid: Kl. 12.45Sted: Rosenbæk HusetRosenbæk Torv 30\, 5000 Odense C \nKl. 11.00-12.00 finder uddeling af forskningsmidler sted. Alle er velkomne. \nDagsorden\n(I henhold til vedtægternes §6\, stk. 2) \n1. Fremlæggelse af hovedbestyrelsens beretning om foreningens virksomhed i den forløbne periode til godkendelse \n2. Fremlæggelse af det reviderede regnskab til godkendelse \n3. Hovedbestyrelsens forslag til handlingsplan for det næste år \n4. Behandling og godkendelse af budget \n5. Fastsættelse af kontingenter \n6. Indkomne forslag \n7. Valg af hovedbestyrelsesmedlemmer\nDer skal vælges 3 medlemmer for 3 år \n8. Valg af suppleanter\nDer skal vælges 3 suppleanter \n9. Valg af 2 interne revisorer \n10. Eventuelt \nPraktiske oplysninger\nAdgang:Medbring medlemsbevis i form af enten blad nr. 141\, medlemskort\, toiletkort eller kontingentkvittering. \nForslag til behandling under pkt. 5:Skal være hovedbestyrelsen i hænde senest 1. marts 2026. \nForslag vedrørende kandidater til hovedbestyrelsen og suppleanter:Skal være hovedbestyrelsen i hænde senest 1. marts 2026. \nForslag til hovedbestyrelsesmedlemmer\, suppleanter og revisor samt regnskab og budget kan rekvireres fra foreningens sekretariat efter 11. marts 2026.Informationerne udsendes automatisk til alle lokalformænd. \nVedtægter for Colitis-Crohn Foreningen kan findes på tarmforeningen.dk \nSpisning\nI forbindelse med generalforsamlingen bydes på et let måltid. \nØnsker du at deltage i spisningen\, bedes du tilmelde dig senest 10. marts 2026 til sekretariatet:Tlf. 35 35 48 82Mail: info@ccf.dk \nVed tilmelding bedes du oplyse\, hvis du ønsker vegetarmad\, glutenfri eller laktosefri kost. \nOBS: Tilmelding er kun nødvendig for deltagelse i spisning.
URL:https://tarmforeningen.dk/arrangement/landsgeneralforsamling-2026/
LOCATION:Rosenbæk Huset\, Rosenbæk Torv 30\, Odense\, 5000
END:VEVENT
END:VCALENDAR