BEGIN:VCALENDAR
VERSION:2.0
PRODID:-//Tarmforeningen - ECPv6.15.20//NONSGML v1.0//EN
CALSCALE:GREGORIAN
METHOD:PUBLISH
X-WR-CALNAME:Tarmforeningen
X-ORIGINAL-URL:https://tarmforeningen.dk
X-WR-CALDESC:Begivenheder for Tarmforeningen
REFRESH-INTERVAL;VALUE=DURATION:PT1H
X-Robots-Tag:noindex
X-PUBLISHED-TTL:PT1H
BEGIN:VTIMEZONE
TZID:Europe/Copenhagen
BEGIN:DAYLIGHT
TZOFFSETFROM:+0100
TZOFFSETTO:+0200
TZNAME:CEST
DTSTART:20240331T010000
END:DAYLIGHT
BEGIN:STANDARD
TZOFFSETFROM:+0200
TZOFFSETTO:+0100
TZNAME:CET
DTSTART:20241027T010000
END:STANDARD
BEGIN:DAYLIGHT
TZOFFSETFROM:+0100
TZOFFSETTO:+0200
TZNAME:CEST
DTSTART:20250330T010000
END:DAYLIGHT
BEGIN:STANDARD
TZOFFSETFROM:+0200
TZOFFSETTO:+0100
TZNAME:CET
DTSTART:20251026T010000
END:STANDARD
BEGIN:DAYLIGHT
TZOFFSETFROM:+0100
TZOFFSETTO:+0200
TZNAME:CEST
DTSTART:20260329T010000
END:DAYLIGHT
BEGIN:STANDARD
TZOFFSETFROM:+0200
TZOFFSETTO:+0100
TZNAME:CET
DTSTART:20261025T010000
END:STANDARD
END:VTIMEZONE
BEGIN:VEVENT
DTSTART;TZID=Europe/Copenhagen:20251103T163000
DTEND;TZID=Europe/Copenhagen:20251103T210000
DTSTAMP:20260425T050343
CREATED:20251022T141822Z
LAST-MODIFIED:20251022T142234Z
UID:20757-1762187400-1762203600@tarmforeningen.dk
SUMMARY:Julehygge og banko med CCF København
DESCRIPTION:Glæd dig til en hyggelig aften i godt selskab\, når CCF København inviterer medlemmer og pårørende til årets julebanko i Hedehusene. \nAftenen byder på syv klassiske bankospil og et ekstra spil – med flotte præmier og sidegevinster.Inden og efter spillene er der tid til snak og kreativ julehygge\, hvor du kan klippe\, klistre og lave dit eget julepynt. \nDer serveres mad\, øl\, vand\, kaffe\, te\, gløgg og æbleskiver\, så der er lagt op til en rigtig hyggelig juleaften. \nTid og sted\nTidspunkt: Mandag den 3. november 2025 kl. 16.30 – 21.00Sted: Salen\, HedehusetAdresse: Hovedgaden 371 B\, 2640 Hedehusene \nPris og tilmelding\nPris: 50 kr. for medlemmer og 60 kr. for pårørende.Prisen inkluderer bespisning og tre bankoplader.Ekstra plader kan købes for 10 kr. pr. stk. (betaling med kontanter eller MobilePay). \nTilmelding:Tilmelding sker via NemTilmeld senest den 25. oktober.Der er plads til 100 deltagere\, og pladserne fordeles efter “først til mølle”-princippet – så tilmeld dig gerne hurtigt. \nVi håber\, at mange har lyst til at deltage og være med til en hyggelig aften fyldt med banko og julestemning. \nDe bedste hilsnerBestyrelsen i CCF København
URL:https://tarmforeningen.dk/arrangement/julehygge-og-banko-med-ccf-koebenhavn/
LOCATION:Hedehuset\, Hovedgaden 371 B\, Hedehusene\, 2640\, Denmark
END:VEVENT
BEGIN:VEVENT
DTSTART;TZID=Europe/Copenhagen:20251105T180000
DTEND;TZID=Europe/Copenhagen:20251105T213000
DTSTAMP:20260425T050343
CREATED:20251020T071249Z
LAST-MODIFIED:20251105T125324Z
UID:20698-1762365600-1762378200@tarmforeningen.dk
SUMMARY:Ungeaften i CCF København
DESCRIPTION:Vi inviterer til hygge\, pizza og brætspil.   \nEr du mellem 15 og 30 år og har lyst til at møde andre unge i CCF – Foreningen for tarmsyge?\nSå kom med til ungeaften i København – en hyggelig aften med pizza\, brætspil og godt selskab.  \nHer får du mulighed for at møde andre unge medlemmer\, udveksle erfaringer og bare nyde et par hyggelige timer i godt selskab.  \nTid og sted  \nDato: Onsdag den 5. november 2025 – kl. 18.00 – 21.30\nAdresse: Vimmelskaftet 41F\, 1. th.\, 1161 København K  \nDet er gratis at deltage\, og vi sørger for både mad\, drikke og spil.  \nTilmelding  \nTilmelding sker på mail til info@ccf.dk eller via sms/ring på 54 34 91 92.\nSidste frist for tilmelding er 31. oktober 2025.  \nVi glæder os til en hyggelig aften – og til at se både nye og velkendte ansigter!  \n 
URL:https://tarmforeningen.dk/arrangement/ungeaften-i-ccf-koebenhavn/
LOCATION:Vimmelskaftet 41F\, 1161 København K\, Denmark
END:VEVENT
BEGIN:VEVENT
DTSTART;TZID=Europe/Copenhagen:20251110T190000
DTEND;TZID=Europe/Copenhagen:20251110T210000
DTSTAMP:20260425T050343
CREATED:20251106T144048Z
LAST-MODIFIED:20251106T144048Z
UID:20953-1762801200-1762808400@tarmforeningen.dk
SUMMARY:CCF’s socialrådgiver besøger Gødstrup Sygehus
DESCRIPTION:Kom til en spændende og informativ aften\, når CCF’s socialrådgiver besøger Klinik for Mave- og Tarmsygdomme i Gødstrup.\nHun fortæller om de sociale rettigheder og støttemuligheder\, du som patient kan have brug for. \nDer vil også være mulighed for spørgsmål og dialog undervejs. \nTid og sted\nTidspunkt: Mandag den 10. november 2025 kl. 19.00–21.00Sted: Klinik for Mave- og Tarmsygdomme\, Gødstrup SygehusAdresse: Hospitalsparken 15\, 7400 Herning \nPris og tilmelding\nPris: Arrangementet er gratisTilmelding: Send en mail til Else på elsemikkelsen2@goedstrup.rm.dk
URL:https://tarmforeningen.dk/arrangement/ccfs-socialraadgiver-besoeger-goedstrup-sygehus/
LOCATION:Gødstrup Sygehus\, Hospitalsparken 15\, Herning\, Klinik for Mave- og Tarmsygdomme\, 7400
END:VEVENT
BEGIN:VEVENT
DTSTART;TZID=Europe/Copenhagen:20251116T120000
DTEND;TZID=Europe/Copenhagen:20251116T150000
DTSTAMP:20260425T050343
CREATED:20251022T143659Z
LAST-MODIFIED:20251105T083005Z
UID:20773-1763294400-1763305200@tarmforeningen.dk
SUMMARY:3-kamp for børn og unge i CCF Syd
DESCRIPTION:Kom og vær med\, når vi mødes til en sjov dag med 3-kamp i Sportscentrum i Aabenraa!Arrangementet er for børn og unge\, der enten selv har en tarmsygdom – eller som er pårørende til én – og som bor i Aabenraa\, Tønder\, Sønderborg eller Haderslev kommune. \nVi skal have det sjovt\, konkurrere lidt og hygge os sammen. \nTid og sted\nTidspunkt: Søndag den 16. november 2025 kl. 12.00Sted: Sportscentrum\, Aabenraa \nTilmelding\nTilmelding sker senest den 7. november til:lenapccf@gmail.com eller 28 93 31 84 \nVi glæder os til en hyggelig dag fyldt med bevægelse\, grin og fællesskab – kom og vær med! \nMed venlig hilsenCCF Sønderjylland
URL:https://tarmforeningen.dk/arrangement/3-kamp-for-boern-og-unge-i-ccf-syd/
LOCATION:Sportscentrum\, Industrivej 8\, Aabenraa\, 6200\, Denmark
END:VEVENT
BEGIN:VEVENT
DTSTART;TZID=Europe/Copenhagen:20251117T173000
DTEND;TZID=Europe/Copenhagen:20251117T210000
DTSTAMP:20260425T050343
CREATED:20251022T143050Z
LAST-MODIFIED:20251105T083522Z
UID:20769-1763400600-1763413200@tarmforeningen.dk
SUMMARY:Julehygge og banko med CCF Nordsjælland
DESCRIPTION:Inden december banker på døren\, inviterer CCF Nordsjælland medlemmer og pårørende til årets sidste arrangement – en hyggelig aften med bankospil\, samvær og lidt godt til ganen i Kedelhuset i Hillerød. \nAftenen begynder med en sandwich eller salat og vand kl. 17.30\, hvorefter de første tre spil banko går i gang omkring kl. 18.15 – med præmier og sidegevinster. \nEfter en lille pause med kaffe\, te\, vand\, frugt\, nødder og godter fortsætter vi med endnu fire spil.Vi håber\, det bliver en glad og hyggelig aften i godt selskab. \nTid og sted\nTidspunkt: Mandag den 17. november 2025 kl. 17.30Sted: Kedelhuset (bag biblioteket)Adresse: Fredensvej 12C\, 3400 HillerødCCF-flaget markerer indgangen. \nDer er to toiletter i Kedelhuset og yderligere to i den tilstødende bygning.Tog og lokalbaner kører til Hillerød Station\, og der er busforbindelser direkte til SlotsArkaderne. \nParkering:Betalingsparkering i P-hus Syd og Nord ved SlotsArkaderne eller i Galleriernes P-hus.Der findes enkelte gratis p-pladser omkring Frivilligcentret/biblioteket. \nPris og tilmelding\nPris: 50 kr. for medlemmer / 60 kr. for pårørendePrisen inkluderer forplejning og tre bankoplader.Ekstra plader kan købes i døren for 10 kr. pr. stk. \nDer er plads til maks. 40 deltagere – pladserne fordeles efter “først til mølle”.Sidste frist for tilmelding er den 7. november. \nTilmelding sker på mail til nordsjaelland@ccf.dk.Du modtager bekræftelse\, når tilmeldingen er registreret. \nVi glæder os til en hyggelig aften fyldt med banko og julestemning. \nMed venlig hilsenAnette OlivariusFormand\, CCF Nordsjælland
URL:https://tarmforeningen.dk/arrangement/julehygge-og-banko-med-ccf-nordsjaelland/
LOCATION:Kedelhuset\, Fredensvej 12C\, Hillerød\, 3400\, Denmark
END:VEVENT
BEGIN:VEVENT
DTSTART;TZID=Europe/Copenhagen:20251119T170000
DTEND;TZID=Europe/Copenhagen:20251119T200000
DTSTAMP:20260425T050343
CREATED:20251113T072412Z
LAST-MODIFIED:20251113T075216Z
UID:20976-1763571600-1763582400@tarmforeningen.dk
SUMMARY:Julehygge og banko med CCF Færøerne / Jólahugni og bingo við CCF Føroyar
DESCRIPTION:DANSK \nInden julen står for døren\, inviterer CCF Færøerne medlemmer\, pårørende og børn til årets hyggeligste arrangement – en varm og festlig aften med bankospil\, samvær og lidt godt til ganen i hjertet af Tórshavn. Vi skal hygge os med julebingo og pakkespil\, og der bliver serveret kaffe\, karameller og lækker mandelis. Som altid slutter vi af med et lotteri med gode præmier blandt alle fremmødte. \nTid og sted\nTidspunkt: Onsdag den 19. november 2025 kl. 17.00Sted: Íslandsvegur 10 c\,  Tórshavn \nTilmelding og pris\nTilmeld dig ved at sende antal voksne og børn i en e-mail til ccf@ccf.fo  \nPris: Gratis \nVi glæder os til at se jer! \nMed venlig hilsen \nBestyrelsen\, CCF Færøerne \nFÆRØSK  \nÁðrenn jólin standa fyri durum\, bjóðar CCF Føroyar limum\, avvarðandi og børnum til ársins hugnaligasta tiltak – eitt fjálgt og hátíðarligt kvøld við bingospenningi\, samveru og góðgæti í hjartanum av Tórshavn. Vit fara at hugna okkum við jólabingo og pakkaspæli\, og kaffi\, karamellur og leskiligur mandlurísur verða borðreidd. Sum altíð enda vit kvøldið við lutakasti um góðar vinningar millum øll\, ið møta upp. \nTíð og stað\nTíð: Mikudagin 19. november 2025 kl. 17.00Stað: Íslandsvegur 10 c\,  Tórshavn \nTilmelding og prísur\nMelda til við at senda tal á vaksnum og børnum í telduposti til ccf@ccf.fo \nPrísur: Ókeypis \nVit gleða okkum at síggja tykkum! \nVinarligaNevndin í CCF Føroyar \n 
URL:https://tarmforeningen.dk/arrangement/julehygge-og-banko-med-ccf-faeroeerne-jolahugni-og-bingo-vid-ccf-foeroyar/
LOCATION:MEGD-húsið\, Íslandsvegur 10 c\, Tórshavn\, FO-100
END:VEVENT
BEGIN:VEVENT
DTSTART;TZID=Europe/Copenhagen:20251119T190000
DTEND;TZID=Europe/Copenhagen:20251119T210000
DTSTAMP:20260425T050343
CREATED:20251105T111307Z
LAST-MODIFIED:20251105T111307Z
UID:20938-1763578800-1763586000@tarmforeningen.dk
SUMMARY:Foredrag om IBS og galdesyrediarre som følgesomme til IBD - CCF Østjylland
DESCRIPTION:Foredrag med Mette Klinge\, speciallæge i lever og tarmsygdomme på Regionhospitalet Horsens. \nMette Klinge holder denne aften foredrag med titlen: ”Hvorfor kan jeg have symptomer fra min tarm\, når min Crohns sygdom eller colitis ulcerosa er i ro?” Hun  vil i løbet af aftenen give et indblik i diagnostik og behandling af irritabel tyktarm og galdesyrediarre\, som ledsagesygdom til inflammatorisk tarmsygdom. \nForedraget bliver holdt på Regionshospitalet i Den Blå Sal\, indgang K. \nTilmelding senest den 12. november 2025 via link: https://ccfoestjylland.nemtilmeld.dk/ \n 
URL:https://tarmforeningen.dk/arrangement/foredrag-om-ibs-og-galdesyrediarre-som-foelgesomme-til-ibd-ccf-oestjylland/
LOCATION:Regionshospitalet Horsens\, Strandpromenaden 35\, Horsens\, 8700\, Denmark
END:VEVENT
BEGIN:VEVENT
DTSTART;TZID=Europe/Copenhagen:20251122T140000
DTEND;TZID=Europe/Copenhagen:20251122T170000
DTSTAMP:20260425T050343
CREATED:20251030T124554Z
LAST-MODIFIED:20251030T124829Z
UID:20863-1763820000-1763830800@tarmforeningen.dk
SUMMARY:Julebanko med CCF Nordjylland
DESCRIPTION:Kom og vær med\, når CCF Nordjylland skyder julestemningen i gang med årets julebanko i Aalborg. \nVi glæder os til en hyggelig eftermiddag med bankospil\, æbleskiver\, julegodter og masser af godt selskab.\nDer spilles i alt 10 spil\, og der er fine gevinster på spil – så husk både dit gode humør og eventuelt egne bankobrikker (ellers sørger vi for dem). \nTid og sted\nTidspunkt: Lørdag den 22. november 2025 kl. 14.00-17.00\nSted: De Frivilliges Hus\, Hadsundvej 35\, 9000 Aalborg \nPris\nPris: 25 kr. pr. voksen – børn deltager gratis.\nPrisen dækker tre bankoplader samt æbleskiver\, julegodter m.m.\nEkstra plader kan købes for 5 kr. pr. stk. \nTilmelding\nSenest den 15. november 2025 til: Jannie Jensen enten på tlf. 41 96 16 72\neller mail nordjylland@ccf.dk. \nVed tilmelding oplyses antal deltagere\, og beløbet indbetales via MobilePay 3702VG \nVi håber\, at mange har lyst til at deltage og være med til en hyggelig eftermiddag fyldt med julestemning og fællesskab. \nMed venlig hilsen\nBestyrelsen i CCF Nordjylland
URL:https://tarmforeningen.dk/arrangement/julebanko-med-ccf-nordjylland/
LOCATION:De Frivilliges Hus\, Lille Sankt Hansgade 7-9\, Viborg\, 8800
END:VEVENT
BEGIN:VEVENT
DTSTART;TZID=Europe/Copenhagen:20251123T113000
DTEND;TZID=Europe/Copenhagen:20251123T170000
DTSTAMP:20260425T050343
CREATED:20251022T133129Z
LAST-MODIFIED:20251022T145240Z
UID:20744-1763897400-1763917200@tarmforeningen.dk
SUMMARY:Julefrokost med CCF-unge
DESCRIPTION:Kom og vær med til årets julefrokost med CCF-unge i Odense den 23. november 2025.\nAlle unge medlemmer af CCF er velkomne – vi håber\, at du har lyst til at være med til en hyggelig dag fyldt med god jule stemning. \n\n\n\n\n\nHvad kan du glæde dig til?\nVi mødes til en hyggelig dag for unge medlemmer mellem 15 og 30 år.\nVi skal spise god julemad og spille julebanko\, så julestemningen kan mærkes. Der bliver også masser af tid til snak\, grin og nye bekendtskaber. \nPraktisk information\nDato: 23. november 2025\nTid: Kl. 11.30 – 17.00\nPris: Gratis (Medlem af CCF – Foreningen for tarmsyge)\nSted: Odense (den præcise adresse følger snarest) \nTilmelding\nTilmelding sker på mail til enten morten@ccf.dk eller caroline@ccf.dk.\nSidste tilmelding: 20. november 2025 \nVi glæder os til at jer! \nDe bedste hilsner\nUngeudvalget\nMorten og Caroline
URL:https://tarmforeningen.dk/arrangement/julefrokost-med-ccf-unge/
LOCATION:Lokale: Lille auditorium
END:VEVENT
BEGIN:VEVENT
DTSTART;TZID=Europe/Copenhagen:20251126T190000
DTEND;TZID=Europe/Copenhagen:20251126T213000
DTSTAMP:20260425T050343
CREATED:20251112T082909Z
LAST-MODIFIED:20251112T084055Z
UID:20978-1764183600-1764192600@tarmforeningen.dk
SUMMARY:Foredrag med socialrådgiver - CCF Sønderjylland
DESCRIPTION:Onsdag den 26. november 2025 kl. 19.00 inviterer vi til et spændende foredrag med socialrådgiver Malene Holm. Malene Holm er socialrådgiver og ansat på kontoret i Colitis Crohn Foreningen. \nForedraget vil bestå af et oplæg ved Malene samt mulighed for at stille spørgsmål undervejs. \nTid og sted\nTidspunkt: Onsdag den 26. november 2025 kl. 19.00Sted: Borgerhuset i Rødekro\, lokale 7Adresse: Østergade 40B\, 6230 Rødekro \nPris og tilmelding\nMedlemmer i Colitis Crohn Foreningen + 1 pårørende: GratisAndre deltagere: 25 kr. (inkl. kaffe og kage \nTilmelding senest fredag den 21. november på e-mail soenderjylland@ccf.dk eller telefon 28933184 \nVi håber at se mange af jer til en hyggelig og udbytterig aften. \nMed venlig hilsenBestyrelsen i CCF Sønderjylland
URL:https://tarmforeningen.dk/arrangement/foredrag-med-socialraadgiver-ccf-soenderjylland/
LOCATION:Borgerhuset\, Østergade 40c\, Rødekro\, 6230
END:VEVENT
BEGIN:VEVENT
DTSTART;TZID=Europe/Copenhagen:20251127T183000
DTEND;TZID=Europe/Copenhagen:20251127T210000
DTSTAMP:20260425T050343
CREATED:20251022T133428Z
LAST-MODIFIED:20251022T141938Z
UID:20714-1764268200-1764277200@tarmforeningen.dk
SUMMARY:Julebanko med CFF Midtjylland
DESCRIPTION:Glæd dig til en hyggelig aften i godt selskab\, når CCF Midtjylland inviterer medlemmer og pårørende til årets traditionelle julebanko i Viborg. \nAftenen begynder med lidt lækker mad\, og derefter står den på bankospil med fine præmier og masser af julestemning.\nDer bliver også tid til at hygge sig\, snakke sammen og ønske hinanden glædelig jul. \nTid og sted\nTidspunkt: Torsdag den 27. november 2025 kl. 18.30\nSted: De Frivilliges Hus\, Lille Sankt Hansgade 7–9\, 8800 Viborg \nTilmelding\nSidste frist for tilmelding er fredag den 21. november.\nTilmelding sker til Marianne Andersen: marianneaaris@gmail.com eller 30 69 00 56 \nForeningen er vært med mad\, drikke og juleknas.\nVi håber\, at mange har lyst til at deltage – både nye og velkendte medlemmer.\nJulebanko med CCF Midtjylland er en god tradition\, hvor vi mødes til hygge\, fællesskab og et glimt af julens magi. \nMed venlig hilsen\nBestyrelsen i CCF Midtjylland
URL:https://tarmforeningen.dk/arrangement/julebanko-cff-midtjylland/
LOCATION:De Frivilliges Hus\, Lille Sankt Hansgade 7-9\, Viborg\, 8800
END:VEVENT
BEGIN:VEVENT
DTSTART;TZID=Europe/Copenhagen:20251129T130000
DTEND;TZID=Europe/Copenhagen:20251129T170000
DTSTAMP:20260425T050343
CREATED:20251022T142601Z
LAST-MODIFIED:20251022T142601Z
UID:20764-1764421200-1764435600@tarmforeningen.dk
SUMMARY:Julebanko med CCF Sydvestjylland
DESCRIPTION:Så er det igen tid til årets hyggeligste arrangement\, når CCF Sydvestjylland inviterer medlemmer\, pårørende og børn til julebanko på Jerne Kro i Esbjerg. \nVi gentager succesen fra tidligere år – med gode præmier\, masser af hygge og julestemning for både store og små.Der vil desuden være en lille overraskelse til børn i alderen 1-14 år. \nForeningen er vært med lidt til ganen\, så kom og vær med til en sjov og hyggelig eftermiddag i godt selskab. \nTid og sted\nTidspunkt: Lørdag den 29. november 2025 kl. 13.00–17.00Sted: Jerne KroAdresse: Fredensgade 28\, 6705 Esbjerg \nPris og tilmelding\nPris: 40 kr. pr. personTilmelding og betaling sker via NemTilmeld senest den 19. november 2025. \nVed spørgsmål kontakt:Ulla – tlf. 29 93 85 86 eller e-mail: ullaccf@gmail.com \n \nVi håber\, at mange har lyst til at deltage og være med til at gøre julebanko med CCF Sydvestjylland til en hyggelig tradition. \nMed venlig hilsenBestyrelsen i CCF Sydvestjylland
URL:https://tarmforeningen.dk/arrangement/julebanko-med-ccf-sydvestjylland/
LOCATION:Jerne Kro\, Fredensgade 28\, Esbjerg\, 6705\, Denmark
END:VEVENT
BEGIN:VEVENT
DTSTART;TZID=Europe/Copenhagen:20251130T130000
DTEND;TZID=Europe/Copenhagen:20251130T163000
DTSTAMP:20260425T050343
CREATED:20251105T082408Z
LAST-MODIFIED:20251105T082408Z
UID:20913-1764507600-1764520200@tarmforeningen.dk
SUMMARY:Julebanko med CCF Sønderjylland
DESCRIPTION:Kom og vær med\, når CCF Sønderjylland inviterer til årets hyggelige julebanko i Rødekro. \nVi glæder os til en festlig eftermiddag med bankospil\, gode gevinster og masser af julestemning. \nDer vil blive serveret lidt godt til maven\, og både pårørende og børn er meget velkomne til at deltage. \nTid og sted\nTidspunkt: Søndag den 30. november 2024 kl. 13.00Sted: Borgerhuset\, 6230 Rødekro \nPris\nPris: 50 kr. pr. person – børn under 12 år deltager gratis. \nTilmelding\nAf hensyn til forplejning er der tilmelding senest den 20. november 2024 til Lena enten på tlf. 28 93 31 84 eller mail lenapccf@gmail.com.  \nVi håber\, at mange har lyst til at være med til en hyggelig og hjertevarm eftermiddag\, hvor vi sammen skyder julestemningen i gang med grin\, banko og fællesskab. \nVenlig hilsenBestyrelsen i CCF Sønderjylland
URL:https://tarmforeningen.dk/arrangement/julebanko-med-ccf-soenderjylland/
LOCATION:Borgerhuset\, Østergade 40c\, Rødekro\, 6230
END:VEVENT
BEGIN:VEVENT
DTSTART;TZID=Europe/Copenhagen:20251130T153000
DTEND;TZID=Europe/Copenhagen:20251130T170000
DTSTAMP:20260425T050343
CREATED:20251112T090014Z
LAST-MODIFIED:20251112T090014Z
UID:20982-1764516600-1764522000@tarmforeningen.dk
SUMMARY:Gameraften for børn og forældre - CCF København
DESCRIPTION:Vi inviterer til en helt særlig eftermiddag fyldt med grin\, spil og fællesskab hos Rødovre Gaming. Arrangementet er for børn med tarmsygdomme – eller børn\, der har en pårørende med tarmsygdom. Her kan børnene game i trygge rammer\, mens forældrene får indsigt i\, hvad gaming egentlig handler om – og hvordan det kan styrke digital dannelse\, samarbejde og trivsel. Der vil være fri gaming\, foredrag\, hjemmebagt kage og sodavand\, så tag dit barn under armen og kom med til et par hyggelige timer sammen med andre familier\, der forstår hverdagen med kronisk sygdom. \nTid og sted\nArrangementet bliver holdt søndag den 30. november 2025 kl. 15.30–17.00 på adressen Rødovre Gaming Centre\, Rødovre Parkvej 130. \nTilmelding\nTilmelding sker direkte via https://ccf-kobenhavn.nemtilmeld.dk/ \nDer er et begrænset antal pladser\, så skynd dig at melde dig til! \n\nVi glæder os til nogle hyggelige stunder. \nMed venlig hilsen \nCCF København
URL:https://tarmforeningen.dk/arrangement/gameraften-for-boern-og-foraeldre-ccf-koebenhavn/
LOCATION:Rødovre Gaming Centre\, Rødovre Parkvej 130\, Rødovre\, Denmark
END:VEVENT
END:VCALENDAR