BEGIN:VCALENDAR
VERSION:2.0
PRODID:-//Tarmforeningen - ECPv6.15.20//NONSGML v1.0//EN
CALSCALE:GREGORIAN
METHOD:PUBLISH
X-WR-CALNAME:Tarmforeningen
X-ORIGINAL-URL:https://tarmforeningen.dk
X-WR-CALDESC:Begivenheder for Tarmforeningen
REFRESH-INTERVAL;VALUE=DURATION:PT1H
X-Robots-Tag:noindex
X-PUBLISHED-TTL:PT1H
BEGIN:VTIMEZONE
TZID:Europe/Copenhagen
BEGIN:DAYLIGHT
TZOFFSETFROM:+0100
TZOFFSETTO:+0200
TZNAME:CEST
DTSTART:20250330T010000
END:DAYLIGHT
BEGIN:STANDARD
TZOFFSETFROM:+0200
TZOFFSETTO:+0100
TZNAME:CET
DTSTART:20251026T010000
END:STANDARD
BEGIN:DAYLIGHT
TZOFFSETFROM:+0100
TZOFFSETTO:+0200
TZNAME:CEST
DTSTART:20260329T010000
END:DAYLIGHT
BEGIN:STANDARD
TZOFFSETFROM:+0200
TZOFFSETTO:+0100
TZNAME:CET
DTSTART:20261025T010000
END:STANDARD
BEGIN:DAYLIGHT
TZOFFSETFROM:+0100
TZOFFSETTO:+0200
TZNAME:CEST
DTSTART:20270328T010000
END:DAYLIGHT
BEGIN:STANDARD
TZOFFSETFROM:+0200
TZOFFSETTO:+0100
TZNAME:CET
DTSTART:20271031T010000
END:STANDARD
END:VTIMEZONE
BEGIN:VEVENT
DTSTART;TZID=Europe/Copenhagen:20260518T163000
DTEND;TZID=Europe/Copenhagen:20260518T203000
DTSTAMP:20260423T020136
CREATED:20260319T073845Z
LAST-MODIFIED:20260319T074001Z
UID:22288-1779121800-1779136200@tarmforeningen.dk
SUMMARY:Deltag i Ladywalk 2026 sammen med CCF København
DESCRIPTION:Igen i år inviterer CCF København til Ladywalk – der i år har 25-års jubilæum. Kom og vær med til en hyggelig og aktiv dag mandag den 18. maj.\nVi mødes fra kl. 16:30 og starter turen kl. 18:00 – information om mødested følger. Du kan komme til ”Tiøren” på cykel\, med bil eller Metro til Femøren. \nVi starter fra “Tiøren” Amager Strandpark\, overfor Kastrup fortet\, Amager Strandvej 246 og går en dejlig tur på Amager Strand\, får god motion\, frisk luft og hyggeligt samvær sammen med andre CCF-medlemmer. \nDu vælger på dagen\, om du vil gå 3 km\, 7 km eller 12 km \n\n\nDet er en Ladywalk\, men det er ok at tilmelde sig sammen med sin partner / kæreste.\nDet handler ikke om at gå stærkt – men om at være sammen\, få frisk luft\, motion og ha’ det sjovt. \n\n\n\n\n\nFor CCF-medlemmer og deres pårørende koster det kun 50\,- kr. per person at deltage. \n\n\nDu får: \n\n\nTilmelding til Ladywalk\nT-shirt med logo\, i år er farven sort\nGoodiebag med produkter fra sponsorer (snacks\, drikkevarer m.m.)\nIs undervejs på turen og evt. pølse ved mål\n\n\nTilmeld dig på Nemtilmeld: https://ccf-kobenhavn.nemtilmeld.dk/ – frist for tilmelding er søndag 19. april.\nNår du tilmelder dig\, skal du vælge størrelse på din T-shirt. Se din størrelse i vedhæftede målskema. \n\n\n\nVi håber\, du har lyst til at gå med! – læs evt. mere på dette link: https://ladywalk.dk/startsteder/koebenhavn-praktisk-info/ \n\n\n\nForårshilsner fra bestyrelsen for CCF København
URL:https://tarmforeningen.dk/arrangement/ladywalk-2026-koebenhavn-ccf/
LOCATION:“Tiøren” Amager Strandpark\, Amager Strandvej 246
END:VEVENT
BEGIN:VEVENT
DTSTART;TZID=Europe/Copenhagen:20260519T180000
DTEND;TZID=Europe/Copenhagen:20260519T203000
DTSTAMP:20260423T020136
CREATED:20260325T084713Z
LAST-MODIFIED:20260325T085617Z
UID:22337-1779213600-1779222600@tarmforeningen.dk
SUMMARY:Café-arrangement i Esbjerg
DESCRIPTION:I anledning af international IBD-dag inviterer Tarmforeningen Sydvestjylland til en hyggelig café-aften i Esbjerg.\nVi mødes med patienter og pårørende til en uformel aften\, hvor der er plads til at dele erfaringer\, tale om de udfordringer vi møder i hverdagen og bare være sammen med andre\, der forstår. \nPraktisk information\nDato: Tirsdag den 19. maj 2026\nTidspunkt: Kl. 18.00Sted: Café Gallardo\, Torvet 17\, 6700 Esbjerg \nForplejning\nForeningen er vært ved en burger.Ved tilmelding bedes du oplyse\, hvilken burger du ønsker. \nSe menuen her: https://cafegallardo.dk \nDrikkevarer er for egen regning. \nFor at støtte foreningens økonomi må du gerne medbringe en rabatkupon fra Gallardo\, som findes i Esbjerg Ugeavis. \nTilmelding\nhttps://ccf-sydvestjylland.nemtilmeld.dk \nTilmeldingsfrist: 10. maj \nArrangementet gennemføres ved minimum 5 tilmeldte \n  \nVi glæder os til en hyggelig aften med fællesskab og god stemning. \nMed venlig hilsenCCF Lokalafdelinger Sydvestjylland
URL:https://tarmforeningen.dk/arrangement/cafe-arrangement-i-esbjerg/
LOCATION:Café Gallardo\, Torvet 17\, Esbjerg\, 6700
END:VEVENT
BEGIN:VEVENT
DTSTART;TZID=Europe/Copenhagen:20260620T090000
DTEND;TZID=Europe/Copenhagen:20260620T163000
DTSTAMP:20260423T020136
CREATED:20260330T131851Z
LAST-MODIFIED:20260330T131932Z
UID:22425-1781946000-1781973000@tarmforeningen.dk
SUMMARY:Bustur til Møns Klint fra København
DESCRIPTION:Tarmforeningen København inviterer til en hyggelig og oplevelsesrig udflugt til Møns Klint\, et af Danmarks mest spektakulære naturområder med op til 120 meter høje kridtklinter ud mod Østersøen.\nKom med på en dag i naturen med frisk luft\, smukke udsigter og godt selskab med andre medlemmer. \nProgram\nLørdag den 20. juni 2026 \n09.00: Afgang fra København11.00: Ankomst til Møns Klint \n11.00 – 14.00: Ophold ved Møns Klint• Gåtur langs klinterne• Besøg i GeoCenter Møns Klint• Frokost / kaffe (medbring egen madpakke) \n14.15: Afgang fra Møns Klint16.00 – 16.15: Ankomst til København \nAfstand fra København til Møns Klint er ca. 138 km og køretiden er omkring 1 time og 40 minutter. \nTransport: Vi planlægger at leje en turistbus med ca. 50 pladser. \nPris og tilmelding\nPris: 50 kr. pr. medlem \nTilmelding:https://ccf-kobenhavn.nemtilmeld.dk/ \nVi glæder os til en dejlig dag sammen. \nHar du spørgsmål til arrangementet\, skriv til koebenhavn@ccf.dk
URL:https://tarmforeningen.dk/arrangement/bustur-moens-klint-koebenhavn-2026/
LOCATION:Møns Klint
END:VEVENT
BEGIN:VEVENT
DTSTART;TZID=Europe/Copenhagen:20260826T190000
DTEND;TZID=Europe/Copenhagen:20260826T210000
DTSTAMP:20260423T020136
CREATED:20260330T134112Z
LAST-MODIFIED:20260330T134143Z
UID:22432-1787770800-1787778000@tarmforeningen.dk
SUMMARY:Foredrag om kost og IBD med professor Johan Burisch
DESCRIPTION:Tarmforeningen København inviterer til et spændende og fagligt oplæg om kost og inflammatorisk tarmsygdom (IBD) med professor Johan Burisch.\nForedraget giver et opdateret overblik over de nyeste behandlingsmuligheder inden for IBD – herunder biologisk medicin og nyere målrettede behandlinger. \nHvad kan du blive klogere på\n• Hvordan de forskellige behandlinger virker• Hvem behandlingerne er relevante for• Hvad du som patient kan forvente af effekt og bivirkninger• Hvilke behandlinger der kan blive en del af fremtidens IBD-behandling \nDer vil også blive sat fokus på nye immunologiske og cellebaserede terapier\, som er under udvikling. \nPraktisk information\nDato: 26. august 2026Tid: Kl. 19.00 – 21.00Sted: Herlev Hospital\, Borgmester Ib Juuls Vej 1\, 2730 Herlev – Lokale: Lille auditorium \nPris\nGratis for Tarmforeningens-medlemmer50 kr. for pårørende \nTilmelding\nhttps://ccf-kobenhavn.nemtilmeld.dk/ \nForplejning\nCCF København serverer frugt og vand \nVi glæder os til en lærerig aften med ny viden og mulighed for at blive opdateret på den nyeste udvikling inden for IBD.
URL:https://tarmforeningen.dk/arrangement/foredrag-kost-ibd-herlev-2026/
LOCATION:Herlev Hospital\, Borgmester Ib Juuls Vej 1\, Herlev\, Lokale: Lille auditorium\, 2730
END:VEVENT
BEGIN:VEVENT
DTSTART;TZID=Europe/Copenhagen:20260912T100000
DTEND;TZID=Europe/Copenhagen:20260912T160000
DTSTAMP:20260423T020136
CREATED:20260325T083158Z
LAST-MODIFIED:20260325T083158Z
UID:22332-1789207200-1789228800@tarmforeningen.dk
SUMMARY:Workshop med psykologerne Zarah Høst og Mia Frosling
DESCRIPTION:Håndtere livsudfordringer som syg eller pårørende \nSå sker det endelig igen.\nDette emne har længe været efterspurgt blandt vores medlemmer\, og nu er aftalen endelig kommet i hus. \nDenne gang er alle lokalafdelinger velkomne. \nWorkshoppen henvender sig til unge fra 15 år og opefter samt pårørende med kronisk sygdom tæt på livet.\nVi sætter fokus på de psykiske belastninger ved kronisk sygdom og betydningen for både den enkelte og de pårørende.\nWorkshoppen vil have særligt fokus på gruppefaciliterede processer\, hvor deltagerne opdeles i relevante grupper\, så man kan spejle sig i andres oplevelser og udfordringer. \nMålet er\, at deltagerne får en større forståelse for egne reaktionsmønstre og adfærd\, som kan opstå\, når man lever med kronisk sygdom – enten selv eller som pårørende.\nDer vil være fokus på\, hvad der kan være hjælpsomt over tid\, når sygdommen er en vedvarende del af livet. \nDeltagerne vil få værktøjer og perspektiver med hjem\, som kan bidrage til øget oplevelse af styrke\, mod og livskraft i hverdagen.\nVi ser frem til en lærerig dag sammen med medlemmer og pårørende\, hvor der er plads til jeres erfaringer fra hverdagen og hvor jeres bidrag er med til at gøre dagen relevant for alle. \nDer vil være mulighed for at møde ligesindede\, da workshoppen skaber rum for samtale og refleksion i mindre grupper  både for sygdomsramte og pårørende. \nPraktisk info\nLørdag den 12. september 2026Kl. 10.00 – ca. 16.00Danhostel Esbjerg vandrehjem – Gl. Vardevej 80\, 6700 Esbjerg \nPris: 150 kr. pr. person(Inkl. frugt\, frokostbuffet\, 1 sodavand samt kaffe/te) \nTilmelding\nSidste tilmelding er den 19. august via link:https://ccf-sydvestjylland.nemtilmeld.dk \n\nDer er mulighed for overnatning – kontakt Danhostel Esbjerg direkte.\nDu er velkommen til at invitere én person med\, fx ven\, veninde\, ægtefælle eller samlever.\nArrangementet koster 150 kr. pr. person og inkluderer formiddagsfrugt\, frokostbuffet med 1 sodavand samt kaffe/te og eftermiddagshygge. \nOBS\nArrangementet aflyses ved færre end 30 tilmeldinger.Der er maks. 60 pladser\, som fordeles efter først til mølle-princippet.Arrangementet er åbent for hele landet. \n\nMed venlig hilsenCCF Lokalafdelinger Sydvestjylland og Sønderjylland
URL:https://tarmforeningen.dk/arrangement/workshop-kronisk-sygdom-esbjerg-2026/
LOCATION:Danhostel Esbjerg\, Gl. Vardevej 80\, Esbjerg\, 6700
END:VEVENT
BEGIN:VEVENT
DTSTART;TZID=Europe/Copenhagen:20260924T190000
DTEND;TZID=Europe/Copenhagen:20260924T210000
DTSTAMP:20260423T020136
CREATED:20260330T134626Z
LAST-MODIFIED:20260330T134626Z
UID:22436-1790276400-1790283600@tarmforeningen.dk
SUMMARY:Foredrag: Mad som hjælper og modstander
DESCRIPTION:Kost til trætte og syge tarme – med ernæringsterapeut Mia Damhus \nTarmforeningen København inviterer til et lærerigt foredrag om kostens betydning for tarmsymptomer og tarmsygdom. \nNår du spiser\, er det ikke kun for at nære dig selv du fodrer også din mikrobiota. For mange med tarmsymptomer handler det om at finde balancen: Hvilke fødevarer tåler du og hvordan undgår du samtidig at udelukke for mange gode og næringsrige fødevarer? Samtidig spiller andre faktorer ind på fordøjelsen\, hvilket kan gøre det endnu sværere at navigere i\, hvad der hjælper og hvad der forværrer. \nPraktisk information\nDato: Torsdag den 24. september 2026Tid: Kl. 19.00Sted: Herlev Hospital\, Borgmester Ib Juuls Vej 1\, 2730 HerlevLokale: Lille auditorium \nPris\nGratis for Tarmforeningens-medlemmer50 kr. for pårørende \nTilmelding\nhttps://ccf-kobenhavn.nemtilmeld.dk/ \nForplejning\nTarmforeningen København serverer frugt og vand.
URL:https://tarmforeningen.dk/arrangement/foredrag-kost-tarmsygdom-herlev-2026/
LOCATION:Herlev Hospital\, Borgmester Ib Juuls Vej 1\, Herlev\, Lokale: Lille auditorium\, 2730
END:VEVENT
END:VCALENDAR