BEGIN:VCALENDAR
VERSION:2.0
PRODID:-//Tarmforeningen - ECPv6.15.20//NONSGML v1.0//EN
CALSCALE:GREGORIAN
METHOD:PUBLISH
X-ORIGINAL-URL:https://tarmforeningen.dk
X-WR-CALDESC:Begivenheder for Tarmforeningen
REFRESH-INTERVAL;VALUE=DURATION:PT1H
X-Robots-Tag:noindex
X-PUBLISHED-TTL:PT1H
BEGIN:VTIMEZONE
TZID:Europe/Copenhagen
BEGIN:DAYLIGHT
TZOFFSETFROM:+0100
TZOFFSETTO:+0200
TZNAME:CEST
DTSTART:20250330T010000
END:DAYLIGHT
BEGIN:STANDARD
TZOFFSETFROM:+0200
TZOFFSETTO:+0100
TZNAME:CET
DTSTART:20251026T010000
END:STANDARD
BEGIN:DAYLIGHT
TZOFFSETFROM:+0100
TZOFFSETTO:+0200
TZNAME:CEST
DTSTART:20260329T010000
END:DAYLIGHT
BEGIN:STANDARD
TZOFFSETFROM:+0200
TZOFFSETTO:+0100
TZNAME:CET
DTSTART:20261025T010000
END:STANDARD
BEGIN:DAYLIGHT
TZOFFSETFROM:+0100
TZOFFSETTO:+0200
TZNAME:CEST
DTSTART:20270328T010000
END:DAYLIGHT
BEGIN:STANDARD
TZOFFSETFROM:+0200
TZOFFSETTO:+0100
TZNAME:CET
DTSTART:20271031T010000
END:STANDARD
END:VTIMEZONE
BEGIN:VEVENT
DTSTART;TZID=Europe/Copenhagen:20260422T180000
DTEND;TZID=Europe/Copenhagen:20260422T213000
DTSTAMP:20260424T224715
CREATED:20260305T113530Z
LAST-MODIFIED:20260305T113646Z
UID:22110-1776880800-1776893400@tarmforeningen.dk
SUMMARY:Hyggeaften i CCF for unge
DESCRIPTION:CCF Fyn Unge inviterer til en hyggelig aften i godt selskab. \nKom forbi til en afslappet aften\, hvor vi spiller brætspil\, maler på keramik eller bare hygger og snakker.\nDer er plads til alle\, uanset om du har lyst til at være med i aktiviteterne eller bare kigge forbi. \nVi sørger for aftensmad\, drikkevarer og snacks – du skal bare møde op. \nTid og sted\nDato: 22. april 2026Tid: Kl. 18.00 \nSted:Landssekretariatet i OdenseKongensgade 68\, 2. th.5000 Odense C \nTilmelding\nTilmelding sker via mail til Caroline@ccf.dk \nI mailen skal du skrive:\nDit fulde navn + hvilken bagel du ønsker: \n\nTunsalat\nKylling og bacon\nRøget laks\nChorizo og ost\n\nVi glæder os til at se jer til en hyggelig aften sammen. \nDe bedste hilsnerCCF Fyn Unge
URL:https://tarmforeningen.dk/arrangement/hyggeaften-ccf-unge-odense/
LOCATION:Landssekretariatet i Odense\, Kongensgade 68\, 2. th.\, Odense\, 5000
END:VEVENT
END:VCALENDAR