BEGIN:VCALENDAR
VERSION:2.0
PRODID:-//Tarmforeningen - ECPv6.15.20//NONSGML v1.0//EN
CALSCALE:GREGORIAN
METHOD:PUBLISH
X-ORIGINAL-URL:https://tarmforeningen.dk
X-WR-CALDESC:Begivenheder for Tarmforeningen
REFRESH-INTERVAL;VALUE=DURATION:PT1H
X-Robots-Tag:noindex
X-PUBLISHED-TTL:PT1H
BEGIN:VTIMEZONE
TZID:Europe/Copenhagen
BEGIN:DAYLIGHT
TZOFFSETFROM:+0100
TZOFFSETTO:+0200
TZNAME:CEST
DTSTART:20250330T010000
END:DAYLIGHT
BEGIN:STANDARD
TZOFFSETFROM:+0200
TZOFFSETTO:+0100
TZNAME:CET
DTSTART:20251026T010000
END:STANDARD
BEGIN:DAYLIGHT
TZOFFSETFROM:+0100
TZOFFSETTO:+0200
TZNAME:CEST
DTSTART:20260329T010000
END:DAYLIGHT
BEGIN:STANDARD
TZOFFSETFROM:+0200
TZOFFSETTO:+0100
TZNAME:CET
DTSTART:20261025T010000
END:STANDARD
BEGIN:DAYLIGHT
TZOFFSETFROM:+0100
TZOFFSETTO:+0200
TZNAME:CEST
DTSTART:20270328T010000
END:DAYLIGHT
BEGIN:STANDARD
TZOFFSETFROM:+0200
TZOFFSETTO:+0100
TZNAME:CET
DTSTART:20271031T010000
END:STANDARD
END:VTIMEZONE
BEGIN:VEVENT
DTSTART;TZID=Europe/Copenhagen:20260416T190000
DTEND;TZID=Europe/Copenhagen:20260416T203000
DTSTAMP:20260424T224814
CREATED:20260206T091652Z
LAST-MODIFIED:20260206T091652Z
UID:21863-1776366000-1776371400@tarmforeningen.dk
SUMMARY:Foredrag om hjerneskadetræthed og udtalte træthedssymptomer
DESCRIPTION:CCF Østjylland inviterer til et foredrag om hjerneskadetræthed og de udtalte træthedssymptomer\, som mange oplever efter længere sygdomsperioder\, stress eller belastning. \nFatigue\, hjernetræthed og hjernetåge er begreber\, mange kender  og for nogle er trætheden blevet en fast følgesvend i hverdagen.\nEn træthed\, der kan være svær at forklare for omgivelserne\, men som kan være både invaliderende og frustrerende for den\, der er ramt.\nForedraget giver indsigt i\, hvordan man kan lære at forstå\, håndtere og i nogen grad acceptere en hverdag med begrænset energi. \nOm foredraget\nKenneth Buch Kinastowski blev hjerneskadet efter en infektion\, og en af følgerne har været en udtalt og invaliderende form for hjernetræthed.\nI foredraget fortæller han levende\, ærligt og humoristisk om livet med hjerneskadetræthed. \nHan beskriver\, hvordan selv små opgaver kan udtrætte hjernen\, og hvordan helt almindelige hverdagsaktiviteter kan føre til mental udmattelse.\nSamtidig deler han sine erfaringer med at lære at være på forkant med sit liv\, sin energi og sine begrænsninger. \nKenneth er en stærk formidler af et emne\, der ofte kan være svært at forstå både for dem\, der selv lever med hjernetræthed\, og for de pårørende omkring dem \nTid og sted\nTidspunkt: Torsdag den 16. april 2026 kl. 19.00Sted: Ellevang Kirkes lokalerJellebakken 42\, 8240 Risskov \nTilmelding\nTilmelding senest den 8. april 2026 via følgende link:https://ccfoestjylland.nemtilmeld.dk/
URL:https://tarmforeningen.dk/arrangement/foredrag-om-hjerneskadetraethed-og-udtalte-traethedssymptomer/
LOCATION:Ellevang Kirkes lokaler\, Jellebakken 42\, Risskov\, 8240
END:VEVENT
END:VCALENDAR