BEGIN:VCALENDAR
VERSION:2.0
PRODID:-//Tarmforeningen - ECPv6.15.20//NONSGML v1.0//EN
CALSCALE:GREGORIAN
METHOD:PUBLISH
X-WR-CALNAME:Tarmforeningen
X-ORIGINAL-URL:https://tarmforeningen.dk
X-WR-CALDESC:Begivenheder for Tarmforeningen
REFRESH-INTERVAL;VALUE=DURATION:PT1H
X-Robots-Tag:noindex
X-PUBLISHED-TTL:PT1H
BEGIN:VTIMEZONE
TZID:Europe/Copenhagen
BEGIN:DAYLIGHT
TZOFFSETFROM:+0100
TZOFFSETTO:+0200
TZNAME:CEST
DTSTART:20250330T010000
END:DAYLIGHT
BEGIN:STANDARD
TZOFFSETFROM:+0200
TZOFFSETTO:+0100
TZNAME:CET
DTSTART:20251026T010000
END:STANDARD
BEGIN:DAYLIGHT
TZOFFSETFROM:+0100
TZOFFSETTO:+0200
TZNAME:CEST
DTSTART:20260329T010000
END:DAYLIGHT
BEGIN:STANDARD
TZOFFSETFROM:+0200
TZOFFSETTO:+0100
TZNAME:CET
DTSTART:20261025T010000
END:STANDARD
BEGIN:DAYLIGHT
TZOFFSETFROM:+0100
TZOFFSETTO:+0200
TZNAME:CEST
DTSTART:20270328T010000
END:DAYLIGHT
BEGIN:STANDARD
TZOFFSETFROM:+0200
TZOFFSETTO:+0100
TZNAME:CET
DTSTART:20271031T010000
END:STANDARD
END:VTIMEZONE
BEGIN:VEVENT
DTSTART;TZID=Europe/Copenhagen:20260226T180000
DTEND;TZID=Europe/Copenhagen:20260226T203000
DTSTAMP:20260425T002554
CREATED:20260108T124849Z
LAST-MODIFIED:20260108T124849Z
UID:21309-1772128800-1772137800@tarmforeningen.dk
SUMMARY:Generalforsamling i CCF København efterfulgt af spændende foredrag ”Forstå din IBD: Indsigt fra en sygeplejerske”
DESCRIPTION:CCF København inviterer til ordinær generalforsamling efterfulgt af et spændende og relevant foredrag for mennesker med IBD og pårørende. \nTid og sted\nDato: Tirsdag den 26. februar 2026Tid: Kl. 18.00 – 20.30Sted: Hvidovre HospitalAuditorie 3 + 4Kettegård Allé 30\, 2650 Hvidovre \n\nProgram\nKl. 18:00-18:45 Generalforsamling hvor vi serverer sandwich\, frugt og lidt at drikke og der trækkes lod om 3 gavekurve til en værdi á 300-500 kr. \nDagsorden ved generalforsamlingen ifølge vedtægterne:\n1) Valg af dirigent\n2) Bestyrelsens beretning 2025\n3) Fremlæggelse af revideret regnskab og budget til godkendelse\n4) Forslag til handlingsplan for CCF København 2026\n5) Valg af 3 bestyrelsesmedlemmer. Den siddende bestyrelse ønsker meget gerne flere medlemmer og opfordrer derfor interesserede til at melde sig\, gerne på forhånd.\nPå valg er:\n1. Benthe Bertelsen\, stiller op som bestyrelsesmedlem\, vælges for 2 år.\n2. Sille Seeberg\, stiller op som bestyrelsesmedlem\, vælges for 2 år\n3. Anne Bundgård\, stiller op som Sekretær\, vælges for 2 år?\n6) Valg af suppleanter\, så vidt muligt 2\n7) Valg af revisor\, vil Ole Folkmann genopstille?\n8) Evt. valg af revisorsuppleant\n9) Indkomne forslag\n10) Eventuelt \nIndkomne forslag skal være bestyrelsen i hænde senest 14 dage før GF og sendes på mail til ccfkobenhavnbestyrelse@gmail.com \n\nKl. 19:00 Foredrag: ”Forstå din IBD: Indsigt fra en sygeplejerske”\nVi inviterer til et spændende foredrag med en erfaren sygeplejerske\, som vil fortælle om forløbet for IBD-patienter fra den første diagnose til den videre håndtering af sygdommen. Hun deler viden om både behandling\, støtte i hverdagen og de udfordringer\, patienter typisk møder. Et oplæg fyldt med indsigt og værdifuld viden for både nye og erfarne patienter. \n\nTilmelding\nTilmelding sker via NemTilmeld senest den 24. februar 2026:👉 https://ccf-kobenhavn.nemtilmeld.dk/
URL:https://tarmforeningen.dk/arrangement/generalforsamling-i-ccf-koebenhavn-efterfulgt-af-spaendende-foredrag-forstaa-din-ibd-indsigt-fra-en-sygeplejerske/
LOCATION:Hvidovre Hospital Auditorie 3 + 4\, Kettegård Allé 30\, Hvidovre\, 2650\, Denmark
END:VEVENT
END:VCALENDAR