BEGIN:VCALENDAR
VERSION:2.0
PRODID:-//Tarmforeningen - ECPv6.15.20//NONSGML v1.0//EN
CALSCALE:GREGORIAN
METHOD:PUBLISH
X-ORIGINAL-URL:https://tarmforeningen.dk
X-WR-CALDESC:Begivenheder for Tarmforeningen
REFRESH-INTERVAL;VALUE=DURATION:PT1H
X-Robots-Tag:noindex
X-PUBLISHED-TTL:PT1H
BEGIN:VTIMEZONE
TZID:Europe/Copenhagen
BEGIN:DAYLIGHT
TZOFFSETFROM:+0100
TZOFFSETTO:+0200
TZNAME:CEST
DTSTART:20250330T010000
END:DAYLIGHT
BEGIN:STANDARD
TZOFFSETFROM:+0200
TZOFFSETTO:+0100
TZNAME:CET
DTSTART:20251026T010000
END:STANDARD
BEGIN:DAYLIGHT
TZOFFSETFROM:+0100
TZOFFSETTO:+0200
TZNAME:CEST
DTSTART:20260329T010000
END:DAYLIGHT
BEGIN:STANDARD
TZOFFSETFROM:+0200
TZOFFSETTO:+0100
TZNAME:CET
DTSTART:20261025T010000
END:STANDARD
BEGIN:DAYLIGHT
TZOFFSETFROM:+0100
TZOFFSETTO:+0200
TZNAME:CEST
DTSTART:20270328T010000
END:DAYLIGHT
BEGIN:STANDARD
TZOFFSETFROM:+0200
TZOFFSETTO:+0100
TZNAME:CET
DTSTART:20271031T010000
END:STANDARD
END:VTIMEZONE
BEGIN:VEVENT
DTSTART;TZID=Europe/Copenhagen:20260221T130000
DTEND;TZID=Europe/Copenhagen:20260221T150000
DTSTAMP:20260425T015156
CREATED:20260206T093325Z
LAST-MODIFIED:20260206T093927Z
UID:21869-1771678800-1771686000@tarmforeningen.dk
SUMMARY:Generalforsamling 2026 - CCF-Sønderjylland
DESCRIPTION:CCF-Sønderjylland indkalder hermed til ordinær generalforsamling.Alle medlemmer af lokalafdelingen er meget velkomne\, og vi håber\, at mange har lyst til at deltage og være med til at præge udviklingen af lokalafdelingen. \nForeningen er vært med kaffe\, te\, vand\, kage og en sandwich. Ønsker du sandwich\, er tilmelding nødvendig. \nDa Marianne har valgt at sige tak for denne gang\, kommer vi til at mangle et\nbestyrelsesmedlem.\nArbejdet i bestyrelsen indebærer at man deltager i bestyrelsesmøder (ca. 6-8\nmøder om året)\nDeltage i nogle af de arrangementer vi afholder\nEvt. repræsenterer foreningen ved frivillighedsdage og messer mm.\nEvt. søge sponsorgaver til julebanko. \nVi håber\, at der er nogen\, der har lyst til at engagere sig i udviklingen af vores\nlokalafdeling \nTid og sted\nTidspunkt: Lørdag den 21. februar 2026 kl. 13.00-15.00Sted: Borgerhuset RødekroØstergade 40 C\, 6230 Rødekro \nDagsorden (ifølge vedtægterne)\nSe dagsorden her \nTilmelding\nTilmelding senest den 17. februar 2026 til:Lena KjærgaardMail: lenapccf@gmail.comTlf.: 28 93 31 84
URL:https://tarmforeningen.dk/arrangement/generalforsamling-2026-ccf-soenderjylland/
LOCATION:Borgerhuset \, 6230 Rødekro\, Østergade 40\, Rødekro\, 6230\, Denmark
END:VEVENT
END:VCALENDAR