BEGIN:VCALENDAR
VERSION:2.0
PRODID:-//Tarmforeningen - ECPv6.15.20//NONSGML v1.0//EN
CALSCALE:GREGORIAN
METHOD:PUBLISH
X-WR-CALNAME:Tarmforeningen
X-ORIGINAL-URL:https://tarmforeningen.dk
X-WR-CALDESC:Begivenheder for Tarmforeningen
REFRESH-INTERVAL;VALUE=DURATION:PT1H
X-Robots-Tag:noindex
X-PUBLISHED-TTL:PT1H
BEGIN:VTIMEZONE
TZID:Europe/Copenhagen
BEGIN:DAYLIGHT
TZOFFSETFROM:+0100
TZOFFSETTO:+0200
TZNAME:CEST
DTSTART:20250330T010000
END:DAYLIGHT
BEGIN:STANDARD
TZOFFSETFROM:+0200
TZOFFSETTO:+0100
TZNAME:CET
DTSTART:20251026T010000
END:STANDARD
BEGIN:DAYLIGHT
TZOFFSETFROM:+0100
TZOFFSETTO:+0200
TZNAME:CEST
DTSTART:20260329T010000
END:DAYLIGHT
BEGIN:STANDARD
TZOFFSETFROM:+0200
TZOFFSETTO:+0100
TZNAME:CET
DTSTART:20261025T010000
END:STANDARD
BEGIN:DAYLIGHT
TZOFFSETFROM:+0100
TZOFFSETTO:+0200
TZNAME:CEST
DTSTART:20270328T010000
END:DAYLIGHT
BEGIN:STANDARD
TZOFFSETFROM:+0200
TZOFFSETTO:+0100
TZNAME:CET
DTSTART:20271031T010000
END:STANDARD
END:VTIMEZONE
BEGIN:VEVENT
DTSTART;TZID=Europe/Copenhagen:20260219T190000
DTEND;TZID=Europe/Copenhagen:20260219T213000
DTSTAMP:20260425T014731
CREATED:20260206T092418Z
LAST-MODIFIED:20260206T092536Z
UID:21865-1771527600-1771536600@tarmforeningen.dk
SUMMARY:Foredrag: Musik - mere end vi tror
DESCRIPTION:CCF Nordjylland inviterer til et inspirerende foredrag om musikkens betydning – ikke kun som kultur og fællesskab\, men som en aktiv del af behandling og omsorg\, når livet gør ondt. \nMusik er noget\, de fleste af os tager for givet. Den er med os på dansegulvet\, til bryllupper og begravelser\, når vi synger fødselsdagssang\, eller når vi deler en børnesang med et lille barn. Her skaber musikken fællesskab\, knytter bånd\, rører os og kan løfte vores humør. \nMen musik kan meget mere – særligt når livet står på en spids. \nI foredraget fortælles der om\, hvordan musikterapi og musik gennem de seneste fire år er blevet introduceret og anvendt på Aalborg Universitetshospital.\nHospitalet er det første i Danmark med en centralt koordineret indsats\, hvor musikterapi bruges som et supplerende behandlingstilbud. \nDer gives indblik i\, hvordan musik anvendes i akutte situationer\, hvor liv og helbred er truet – ikke kun til at lindre fysiske smerter og symptomer\, men også til at nå de smerter\, som ikke kan behandles med medicin.\nForedraget kommer også ind på udviklingen af kultur- og sundhedsinitiativer på hospitalet  både nu og i fremtiden. \nForedragsholder\nStephan SkipperCand.mag. i musikterapi og programudvikler på Aalborg Universitetshospital.Stephan har mere end 20 års erfaring med musikterapi\, heraf 10 år fra hospitaler i Melbourne\, Australien \nTid og sted\nTidspunkt: Torsdag den 26. februar 2026 kl. 19.00 – ca. 21.30Sted: De Frivilliges HusHadsundvej 35\, 9000 Aalborg \nTilmelding\nTilmelding senest den 19. februar 2026 til:Jannie JensenTlf.: 41 96 16 72Mail: nordjylland@ccf.dk
URL:https://tarmforeningen.dk/arrangement/foredrag-musik-mere-end-vi-tror/
LOCATION:De Frivilliges Hus\, Aalborg\, Hadsundvej 35\, Aalborg\, 9000
END:VEVENT
END:VCALENDAR