BEGIN:VCALENDAR
VERSION:2.0
PRODID:-//Tarmforeningen - ECPv6.15.20//NONSGML v1.0//EN
CALSCALE:GREGORIAN
METHOD:PUBLISH
X-WR-CALNAME:Tarmforeningen
X-ORIGINAL-URL:https://tarmforeningen.dk
X-WR-CALDESC:Begivenheder for Tarmforeningen
REFRESH-INTERVAL;VALUE=DURATION:PT1H
X-Robots-Tag:noindex
X-PUBLISHED-TTL:PT1H
BEGIN:VTIMEZONE
TZID:Europe/Copenhagen
BEGIN:DAYLIGHT
TZOFFSETFROM:+0100
TZOFFSETTO:+0200
TZNAME:CEST
DTSTART:20250330T010000
END:DAYLIGHT
BEGIN:STANDARD
TZOFFSETFROM:+0200
TZOFFSETTO:+0100
TZNAME:CET
DTSTART:20251026T010000
END:STANDARD
BEGIN:DAYLIGHT
TZOFFSETFROM:+0100
TZOFFSETTO:+0200
TZNAME:CEST
DTSTART:20260329T010000
END:DAYLIGHT
BEGIN:STANDARD
TZOFFSETFROM:+0200
TZOFFSETTO:+0100
TZNAME:CET
DTSTART:20261025T010000
END:STANDARD
BEGIN:DAYLIGHT
TZOFFSETFROM:+0100
TZOFFSETTO:+0200
TZNAME:CEST
DTSTART:20270328T010000
END:DAYLIGHT
BEGIN:STANDARD
TZOFFSETFROM:+0200
TZOFFSETTO:+0100
TZNAME:CET
DTSTART:20271031T010000
END:STANDARD
END:VTIMEZONE
BEGIN:VEVENT
DTSTART;TZID=Europe/Copenhagen:20260218T183000
DTEND;TZID=Europe/Copenhagen:20260218T210000
DTSTAMP:20260425T014732
CREATED:20260128T131221Z
LAST-MODIFIED:20260128T131307Z
UID:21436-1771439400-1771448400@tarmforeningen.dk
SUMMARY:Generalforsamling 2026 - CCF Østjylland
DESCRIPTION:CCF Østjylland inviterer til ordinær generalforsamling 2026 med efterfølgende foredrag. \n Dato: Onsdag den 18. februar 2026Tid: Kl. 18.30Sted: Marselisborg Centret\, Evald Krogs Gade 1–17\, bygning 9\, 8000 Aarhus C \n\nDagsorden (ifølge vedtægterne)\n\nValg af dirigent\nLokalafdelingens årsberetning for 2025\nFremlæggelse af revideret regnskab til godkendelse\nBestyrelsens forslag til handlingsplan for 2026\nValg af to medlemmer til bestyrelsen for 2 år\n– På valg er: Inger Graversen\, Anni Christensen\, Lene Freltoft\nValg af to eller tre suppleanter for 1 år\nValg af revisor for 1 år\n– På valg er: Hanne Nørregaard\nValg af revisorsuppleant for 1 år\n– På valg er: Martin Hauge Zeune\nIndkomne forslag\nEventuelt\n\nForslag til behandling under punkt 9 skal være bestyrelsen i hænde senest den 11. februar 2026på mail: oestjylland@ccf.dk \nStemmeret: Medlemmer har stemmeret. Ledsagere er velkomne\, men har ikke stemmeret. \n\nForedrag: De nye nationale IBS-guidelines v/ overlæge Janne Fassov\nEfter generalforsamlingen byder vi velkommen til et spændende foredrag om de nye nationale IBS-guidelines. \nJanne Fassov er uddannelsesansvarlig overlæge på lever-\, mave- og tarmafdelingen på AUH og har været en del af den nationale arbejdsgruppe\, der har opdateret den nye guideline for irritabel tyktarm (IBS). \nForedraget sætter fokus på: \n\nHvad der er nyt og ændret i IBS-guidelinen\nSammenhængen mellem IBS og tarmsygdomme\nMulighed for spørgsmål\n\nVi har tidligere haft Janne som foredragsholder og ved\, at det bliver et foredrag med både viden og perspektiv. \n\nForplejning og tilmelding\nVi serverer smørrebrød samt øl/vand til generalforsamlingen.Der serveres kaffe/te og kage til foredraget.Der er desværre ikke mulighed for glutenfri forplejning. \nØnsker du forplejning\, er der tilmelding senest den 8. februar 2026 via: https://ccfoestjylland.nemtilmeld.dk/ \nHusk at anføre dit medlemsnummer ved tilmelding eller medbring det på dagen.Alle medlemmer er velkomne – også uden tilmelding.
URL:https://tarmforeningen.dk/arrangement/generalforsamling-2026-ccf-oestjylland/
LOCATION:Marselisborg Centret\, Evald Krogs Gade 1–17\, bygning 9
END:VEVENT
END:VCALENDAR